{
 "currentVersion": 11.3,
 "serviceDescription": "Gardena_Parcels/2509RosecransAveOption1Imagery",
 "name": "Gardena_Parcels/2509RosecransAveOption1Imagery",
 "description": "",
 "extent": {
  "xmin": -1.3171495177714325E7,
  "ymin": 4015661.5455194637,
  "xmax": -1.3171407936043713E7,
  "ymax": 4015730.1614613375,
  "spatialReference": {
   "wkid": 102100,
   "latestWkid": 3857
  }
 },
 "initialExtent": {
  "xmin": -1.3171495177714325E7,
  "ymin": 4015661.5455194637,
  "xmax": -1.3171407936043713E7,
  "ymax": 4015730.1614613375,
  "spatialReference": {
   "wkid": 102100,
   "latestWkid": 3857
  }
 },
 "fullExtent": {
  "xmin": -1.3171495177714325E7,
  "ymin": 4015661.5455194637,
  "xmax": -1.3171407936043713E7,
  "ymax": 4015730.1614613375,
  "spatialReference": {
   "wkid": 102100,
   "latestWkid": 3857
  }
 },
 "sortableFields": "",
 "bandCount": 3,
 "pixelType": "U8",
 "minValues": [
  1,
  1,
  0
 ],
 "maxValues": [
  255,
  255,
  255
 ],
 "meanValues": [
  183.11980214118,
  172.45486619559,
  144.51489109546
 ],
 "stdvValues": [
  61.864631628403,
  54.572987632933,
  72.433344959893
 ],
 "hasMultidimensions": false,
 "pixelSizeX": 0.016352703020102305,
 "pixelSizeY": 0.016352703020436506,
 "meanPixelSize": 0.016352703020269407,
 "datasetFormat": "TIFF",
 "uncompressedSize": 67156980,
 "blockWidth": 128,
 "blockHeight": 128,
 "compressionType": "None",
 "bandNames": [
  "Band_1",
  "Band_2",
  "Band_3"
 ],
 "allowCopy": true,
 "allowAnalysis": true,
 "itemAccess": false,
 "inspectionCapabilities": "",
 "minPixelSize": 0,
 "maxPixelSize": 0,
 "copyrightText": "",
 "serviceDataType": "esriImageServiceDataTypeRGB",
 "serviceSourceType": "esriImageServiceSourceTypeDataset",
 "objectIdField": "",
 "fields": [],
 "capabilities": "Image,Metadata,Mensuration",
 "defaultMosaicMethod": "Center",
 "allowedMosaicMethods": "",
 "sortField": "",
 "sortValue": null,
 "sortAscending": true,
 "mosaicOperator": "First",
 "defaultCompressionQuality": 75,
 "defaultResamplingMethod": "Bilinear",
 "maxImageHeight": 4100,
 "maxImageWidth": 15000,
 "allowRasterFunction": true,
 "rasterFunctionInfos": [
  {
   "name": "None",
   "description": "",
   "help": ""
  }
 ],
 "rasterTypeInfos": [
  {
   "name": "Raster Dataset",
   "description": "Supports all ArcGIS Raster Datasets",
   "help": ""
  }
 ],
 "mensurationCapabilities": "Basic",
 "hasHistograms": true,
 "hasColormap": false,
 "hasRasterAttributeTable": false,
 "minScale": 0,
 "maxScale": 0,
 "exportTilesAllowed": false,
 "supportsStatistics": false,
 "supportsAdvancedQueries": false,
 "editFieldsInfo": null,
 "ownershipBasedAccessControlForRasters": null,
 "allowComputeTiePoints": false,
 "useStandardizedQueries": true,
 "advancedQueryCapabilities": {
  "useStandardizedQueries": true,
  "supportsStatistics": false,
  "supportsOrderBy": false,
  "supportsDistinct": false,
  "supportsPagination": false
 },
 "spatialReference": {
  "wkid": 102100,
  "latestWkid": 3857
 }
}
