{
 "currentVersion": 11.3,
 "serviceDescription": "Gardena_Parcels/VermontSt_Crop1_100dpi_tif",
 "name": "Gardena_Parcels/VermontSt_Crop1_100dpi_tif",
 "description": "",
 "extent": {
  "xmin": -1.3168205540078355E7,
  "ymin": 4013889.664960239,
  "xmax": -1.3168153882325646E7,
  "ymax": 4014359.2145611616,
  "spatialReference": {
   "wkid": 102100,
   "latestWkid": 3857
  }
 },
 "initialExtent": {
  "xmin": -1.3168205540078355E7,
  "ymin": 4013889.664960239,
  "xmax": -1.3168153882325646E7,
  "ymax": 4014359.2145611616,
  "spatialReference": {
   "wkid": 102100,
   "latestWkid": 3857
  }
 },
 "fullExtent": {
  "xmin": -1.3168205540078355E7,
  "ymin": 4013889.664960239,
  "xmax": -1.3168153882325646E7,
  "ymax": 4014359.2145611616,
  "spatialReference": {
   "wkid": 102100,
   "latestWkid": 3857
  }
 },
 "sortableFields": "",
 "bandCount": 4,
 "pixelType": "U8",
 "minValues": [
  0,
  0,
  0,
  127
 ],
 "maxValues": [
  251,
  246,
  253,
  255
 ],
 "meanValues": [
  129.27715075201,
  133.01993241435,
  114.80398335028,
  177.15797524992
 ],
 "stdvValues": [
  47.672090025539,
  50.645017616149,
  46.119371839468,
  61.3696118857
 ],
 "hasMultidimensions": false,
 "pixelSizeX": 0.01624968628797208,
 "pixelSizeY": 1.9483385930394297,
 "meanPixelSize": 0.9822941396637009,
 "datasetFormat": "TIFF",
 "uncompressedSize": 3064556,
 "blockWidth": 3179,
 "blockHeight": 1,
 "compressionType": "LZW",
 "bandNames": [
  "Band_1",
  "Band_2",
  "Band_3",
  "Band_4"
 ],
 "allowCopy": true,
 "allowAnalysis": true,
 "itemAccess": false,
 "inspectionCapabilities": "",
 "minPixelSize": 0,
 "maxPixelSize": 0,
 "copyrightText": "",
 "serviceDataType": "esriImageServiceDataTypeGeneric",
 "serviceSourceType": "esriImageServiceSourceTypeDataset",
 "objectIdField": "",
 "fields": [],
 "capabilities": "Image,Metadata,Mensuration",
 "defaultMosaicMethod": "Center",
 "allowedMosaicMethods": "",
 "sortField": "",
 "sortValue": null,
 "sortAscending": true,
 "mosaicOperator": "First",
 "defaultCompressionQuality": 75,
 "defaultResamplingMethod": "Bilinear",
 "maxImageHeight": 4100,
 "maxImageWidth": 15000,
 "allowRasterFunction": true,
 "rasterFunctionInfos": [
  {
   "name": "None",
   "description": "",
   "help": ""
  }
 ],
 "rasterTypeInfos": [
  {
   "name": "Raster Dataset",
   "description": "Supports all ArcGIS Raster Datasets",
   "help": ""
  }
 ],
 "mensurationCapabilities": "Basic",
 "hasHistograms": true,
 "hasColormap": false,
 "hasRasterAttributeTable": false,
 "minScale": 0,
 "maxScale": 0,
 "exportTilesAllowed": false,
 "supportsStatistics": false,
 "supportsAdvancedQueries": false,
 "editFieldsInfo": null,
 "ownershipBasedAccessControlForRasters": null,
 "allowComputeTiePoints": false,
 "useStandardizedQueries": true,
 "advancedQueryCapabilities": {
  "useStandardizedQueries": true,
  "supportsStatistics": false,
  "supportsOrderBy": false,
  "supportsDistinct": false,
  "supportsPagination": false
 },
 "spatialReference": {
  "wkid": 102100,
  "latestWkid": 3857
 }
}
