{
 "currentVersion": 11.3,
 "serviceDescription": "Gardena_Parcels/VermontSt_Crop2_1000dpi_export_tif",
 "name": "Gardena_Parcels/VermontSt_Crop2_1000dpi_export_tif",
 "description": "",
 "extent": {
  "xmin": -1.3168200403930426E7,
  "ymin": 4013402.0547135645,
  "xmax": -1.316812877619623E7,
  "ymax": 4013882.800163268,
  "spatialReference": {
   "wkid": 102100,
   "latestWkid": 3857
  }
 },
 "initialExtent": {
  "xmin": -1.3168200403930426E7,
  "ymin": 4013402.0547135645,
  "xmax": -1.316812877619623E7,
  "ymax": 4013882.800163268,
  "spatialReference": {
   "wkid": 102100,
   "latestWkid": 3857
  }
 },
 "fullExtent": {
  "xmin": -1.3168200403930426E7,
  "ymin": 4013402.0547135645,
  "xmax": -1.316812877619623E7,
  "ymax": 4013882.800163268,
  "spatialReference": {
   "wkid": 102100,
   "latestWkid": 3857
  }
 },
 "sortableFields": "",
 "bandCount": 4,
 "pixelType": "U8",
 "minValues": [
  0,
  0,
  0,
  127
 ],
 "maxValues": [
  251,
  255,
  255,
  255
 ],
 "meanValues": [
  129.63114162499,
  132.32371338852,
  113.96682968249,
  176.0583828559
 ],
 "stdvValues": [
  50.860115685129,
  54.060192348583,
  46.723838821382,
  62.016450776973
 ],
 "hasMultidimensions": false,
 "pixelSizeX": 0.0022123029989017206,
 "pixelSizeY": 0.18182505662014084,
 "meanPixelSize": 0.09201867980952128,
 "datasetFormat": "TIFF",
 "uncompressedSize": 342419152,
 "blockWidth": 32377,
 "blockHeight": 1,
 "compressionType": "LZW",
 "bandNames": [
  "Band_1",
  "Band_2",
  "Band_3",
  "Band_4"
 ],
 "allowCopy": true,
 "allowAnalysis": true,
 "itemAccess": false,
 "inspectionCapabilities": "",
 "minPixelSize": 0,
 "maxPixelSize": 0,
 "copyrightText": "",
 "serviceDataType": "esriImageServiceDataTypeGeneric",
 "serviceSourceType": "esriImageServiceSourceTypeDataset",
 "objectIdField": "",
 "fields": [],
 "capabilities": "Image,Metadata,Mensuration",
 "defaultMosaicMethod": "Center",
 "allowedMosaicMethods": "",
 "sortField": "",
 "sortValue": null,
 "sortAscending": true,
 "mosaicOperator": "First",
 "defaultCompressionQuality": 75,
 "defaultResamplingMethod": "Bilinear",
 "maxImageHeight": 4100,
 "maxImageWidth": 15000,
 "allowRasterFunction": true,
 "rasterFunctionInfos": [
  {
   "name": "None",
   "description": "",
   "help": ""
  }
 ],
 "rasterTypeInfos": [
  {
   "name": "Raster Dataset",
   "description": "Supports all ArcGIS Raster Datasets",
   "help": ""
  }
 ],
 "mensurationCapabilities": "Basic",
 "hasHistograms": true,
 "hasColormap": false,
 "hasRasterAttributeTable": false,
 "minScale": 0,
 "maxScale": 0,
 "exportTilesAllowed": false,
 "supportsStatistics": false,
 "supportsAdvancedQueries": false,
 "editFieldsInfo": null,
 "ownershipBasedAccessControlForRasters": null,
 "allowComputeTiePoints": false,
 "useStandardizedQueries": true,
 "advancedQueryCapabilities": {
  "useStandardizedQueries": true,
  "supportsStatistics": false,
  "supportsOrderBy": false,
  "supportsDistinct": false,
  "supportsPagination": false
 },
 "spatialReference": {
  "wkid": 102100,
  "latestWkid": 3857
 }
}
