{
 "currentVersion": 11.3,
 "serviceDescription": "Gardena_Parcels/VermontSt_Crop2_250dpi_export_tif",
 "name": "Gardena_Parcels/VermontSt_Crop2_250dpi_export_tif",
 "description": "",
 "extent": {
  "xmin": -1.3168200896312535E7,
  "ymin": 4013401.941914348,
  "xmax": -1.3168128269306745E7,
  "ymax": 4013882.9452027394,
  "spatialReference": {
   "wkid": 102100,
   "latestWkid": 3857
  }
 },
 "initialExtent": {
  "xmin": -1.3168200896312535E7,
  "ymin": 4013401.941914348,
  "xmax": -1.3168128269306745E7,
  "ymax": 4013882.9452027394,
  "spatialReference": {
   "wkid": 102100,
   "latestWkid": 3857
  }
 },
 "fullExtent": {
  "xmin": -1.3168200896312535E7,
  "ymin": 4013401.941914348,
  "xmax": -1.3168128269306745E7,
  "ymax": 4013882.9452027394,
  "spatialReference": {
   "wkid": 102100,
   "latestWkid": 3857
  }
 },
 "sortableFields": "",
 "bandCount": 4,
 "pixelType": "U8",
 "minValues": [
  0,
  0,
  0,
  127
 ],
 "maxValues": [
  250,
  254,
  255,
  255
 ],
 "meanValues": [
  129.94565164163,
  132.58371939844,
  114.10156511968,
  176.09185695161
 ],
 "stdvValues": [
  49.95221127333,
  53.037710262521,
  45.910307299202,
  61.737167032525
 ],
 "hasMultidimensions": false,
 "pixelSizeX": 0.008972943635956134,
 "pixelSizeY": 0.7276903001384446,
 "meanPixelSize": 0.36833162188720037,
 "datasetFormat": "TIFF",
 "uncompressedSize": 21400536,
 "blockWidth": 8094,
 "blockHeight": 1,
 "compressionType": "LZW",
 "bandNames": [
  "Band_1",
  "Band_2",
  "Band_3",
  "Band_4"
 ],
 "allowCopy": true,
 "allowAnalysis": true,
 "itemAccess": false,
 "inspectionCapabilities": "",
 "minPixelSize": 0,
 "maxPixelSize": 0,
 "copyrightText": "",
 "serviceDataType": "esriImageServiceDataTypeGeneric",
 "serviceSourceType": "esriImageServiceSourceTypeDataset",
 "objectIdField": "",
 "fields": [],
 "capabilities": "Image,Metadata,Mensuration",
 "defaultMosaicMethod": "Center",
 "allowedMosaicMethods": "",
 "sortField": "",
 "sortValue": null,
 "sortAscending": true,
 "mosaicOperator": "First",
 "defaultCompressionQuality": 75,
 "defaultResamplingMethod": "Bilinear",
 "maxImageHeight": 4100,
 "maxImageWidth": 15000,
 "allowRasterFunction": true,
 "rasterFunctionInfos": [
  {
   "name": "None",
   "description": "",
   "help": ""
  }
 ],
 "rasterTypeInfos": [
  {
   "name": "Raster Dataset",
   "description": "Supports all ArcGIS Raster Datasets",
   "help": ""
  }
 ],
 "mensurationCapabilities": "Basic",
 "hasHistograms": true,
 "hasColormap": false,
 "hasRasterAttributeTable": false,
 "minScale": 0,
 "maxScale": 0,
 "exportTilesAllowed": false,
 "supportsStatistics": false,
 "supportsAdvancedQueries": false,
 "editFieldsInfo": null,
 "ownershipBasedAccessControlForRasters": null,
 "allowComputeTiePoints": false,
 "useStandardizedQueries": true,
 "advancedQueryCapabilities": {
  "useStandardizedQueries": true,
  "supportsStatistics": false,
  "supportsOrderBy": false,
  "supportsDistinct": false,
  "supportsPagination": false
 },
 "spatialReference": {
  "wkid": 102100,
  "latestWkid": 3857
 }
}
