{
 "currentVersion": 11.3,
 "serviceDescription": "Gardena_Parcels/VermontSt_Crop3_1000dpi_export_tif",
 "name": "Gardena_Parcels/VermontSt_Crop3_1000dpi_export_tif",
 "description": "",
 "extent": {
  "xmin": -1.316819583467653E7,
  "ymin": 4013037.413482116,
  "xmax": -1.3168102081819374E7,
  "ymax": 4013400.0019693817,
  "spatialReference": {
   "wkid": 102100,
   "latestWkid": 3857
  }
 },
 "initialExtent": {
  "xmin": -1.316819583467653E7,
  "ymin": 4013037.413482116,
  "xmax": -1.3168102081819374E7,
  "ymax": 4013400.0019693817,
  "spatialReference": {
   "wkid": 102100,
   "latestWkid": 3857
  }
 },
 "fullExtent": {
  "xmin": -1.316819583467653E7,
  "ymin": 4013037.413482116,
  "xmax": -1.3168102081819374E7,
  "ymax": 4013400.0019693817,
  "spatialReference": {
   "wkid": 102100,
   "latestWkid": 3857
  }
 },
 "sortableFields": "",
 "bandCount": 4,
 "pixelType": "U8",
 "minValues": [
  0,
  0,
  0,
  127
 ],
 "maxValues": [
  243,
  254,
  255,
  255
 ],
 "meanValues": [
  130.912676694,
  136.25469287372,
  114.60484094471,
  183.25604450354
 ],
 "stdvValues": [
  51.321937974914,
  54.92846973537,
  50.681130519684,
  63.184999102191
 ],
 "hasMultidimensions": false,
 "pixelSizeX": 0.003913380521605288,
 "pixelSizeY": 0.161007321165911,
 "meanPixelSize": 0.08246035084375813,
 "datasetFormat": "TIFF",
 "uncompressedSize": 215804656,
 "blockWidth": 23957,
 "blockHeight": 1,
 "compressionType": "LZW",
 "bandNames": [
  "Band_1",
  "Band_2",
  "Band_3",
  "Band_4"
 ],
 "allowCopy": true,
 "allowAnalysis": true,
 "itemAccess": false,
 "inspectionCapabilities": "",
 "minPixelSize": 0,
 "maxPixelSize": 0,
 "copyrightText": "",
 "serviceDataType": "esriImageServiceDataTypeGeneric",
 "serviceSourceType": "esriImageServiceSourceTypeDataset",
 "objectIdField": "",
 "fields": [],
 "capabilities": "Image,Metadata,Mensuration",
 "defaultMosaicMethod": "Center",
 "allowedMosaicMethods": "",
 "sortField": "",
 "sortValue": null,
 "sortAscending": true,
 "mosaicOperator": "First",
 "defaultCompressionQuality": 75,
 "defaultResamplingMethod": "Bilinear",
 "maxImageHeight": 4100,
 "maxImageWidth": 15000,
 "allowRasterFunction": true,
 "rasterFunctionInfos": [
  {
   "name": "None",
   "description": "",
   "help": ""
  }
 ],
 "rasterTypeInfos": [
  {
   "name": "Raster Dataset",
   "description": "Supports all ArcGIS Raster Datasets",
   "help": ""
  }
 ],
 "mensurationCapabilities": "Basic",
 "hasHistograms": true,
 "hasColormap": false,
 "hasRasterAttributeTable": false,
 "minScale": 0,
 "maxScale": 0,
 "exportTilesAllowed": false,
 "supportsStatistics": false,
 "supportsAdvancedQueries": false,
 "editFieldsInfo": null,
 "ownershipBasedAccessControlForRasters": null,
 "allowComputeTiePoints": false,
 "useStandardizedQueries": true,
 "advancedQueryCapabilities": {
  "useStandardizedQueries": true,
  "supportsStatistics": false,
  "supportsOrderBy": false,
  "supportsDistinct": false,
  "supportsPagination": false
 },
 "spatialReference": {
  "wkid": 102100,
  "latestWkid": 3857
 }
}
