{
 "currentVersion": 11.3,
 "serviceDescription": "Gardena_Parcels/VermontSt_Crop3_100dpi_export_tif",
 "name": "Gardena_Parcels/VermontSt_Crop3_100dpi_export_tif",
 "description": "",
 "extent": {
  "xmin": -1.3168171825814039E7,
  "ymin": 4013041.895072765,
  "xmax": -1.3168126159614826E7,
  "ymax": 4013395.555520463,
  "spatialReference": {
   "wkid": 102100,
   "latestWkid": 3857
  }
 },
 "initialExtent": {
  "xmin": -1.3168171825814039E7,
  "ymin": 4013041.895072765,
  "xmax": -1.3168126159614826E7,
  "ymax": 4013395.555520463,
  "spatialReference": {
   "wkid": 102100,
   "latestWkid": 3857
  }
 },
 "fullExtent": {
  "xmin": -1.3168171825814039E7,
  "ymin": 4013041.895072765,
  "xmax": -1.3168126159614826E7,
  "ymax": 4013395.555520463,
  "spatialReference": {
   "wkid": 102100,
   "latestWkid": 3857
  }
 },
 "sortableFields": "",
 "bandCount": 4,
 "pixelType": "U8",
 "minValues": [
  0,
  0,
  0,
  127
 ],
 "maxValues": [
  242,
  253,
  255,
  255
 ],
 "meanValues": [
  129.30040437767,
  134.68559821925,
  113.31370061213,
  185.93636616583
 ],
 "stdvValues": [
  49.609020210344,
  52.885565986565,
  49.010522271632,
  62.547069156716
 ],
 "hasMultidimensions": false,
 "pixelSizeX": 0.019059348586349684,
 "pixelSizeY": 1.571824211989426,
 "meanPixelSize": 0.7954417802878878,
 "datasetFormat": "TIFF",
 "uncompressedSize": 2156400,
 "blockWidth": 2396,
 "blockHeight": 1,
 "compressionType": "LZW",
 "bandNames": [
  "Band_1",
  "Band_2",
  "Band_3",
  "Band_4"
 ],
 "allowCopy": true,
 "allowAnalysis": true,
 "itemAccess": false,
 "inspectionCapabilities": "",
 "minPixelSize": 0,
 "maxPixelSize": 0,
 "copyrightText": "",
 "serviceDataType": "esriImageServiceDataTypeGeneric",
 "serviceSourceType": "esriImageServiceSourceTypeDataset",
 "objectIdField": "",
 "fields": [],
 "capabilities": "Image,Metadata,Mensuration",
 "defaultMosaicMethod": "Center",
 "allowedMosaicMethods": "",
 "sortField": "",
 "sortValue": null,
 "sortAscending": true,
 "mosaicOperator": "First",
 "defaultCompressionQuality": 75,
 "defaultResamplingMethod": "Bilinear",
 "maxImageHeight": 4100,
 "maxImageWidth": 15000,
 "allowRasterFunction": true,
 "rasterFunctionInfos": [
  {
   "name": "None",
   "description": "",
   "help": ""
  }
 ],
 "rasterTypeInfos": [
  {
   "name": "Raster Dataset",
   "description": "Supports all ArcGIS Raster Datasets",
   "help": ""
  }
 ],
 "mensurationCapabilities": "Basic",
 "hasHistograms": true,
 "hasColormap": false,
 "hasRasterAttributeTable": false,
 "minScale": 0,
 "maxScale": 0,
 "exportTilesAllowed": false,
 "supportsStatistics": false,
 "supportsAdvancedQueries": false,
 "editFieldsInfo": null,
 "ownershipBasedAccessControlForRasters": null,
 "allowComputeTiePoints": false,
 "useStandardizedQueries": true,
 "advancedQueryCapabilities": {
  "useStandardizedQueries": true,
  "supportsStatistics": false,
  "supportsOrderBy": false,
  "supportsDistinct": false,
  "supportsPagination": false
 },
 "spatialReference": {
  "wkid": 102100,
  "latestWkid": 3857
 }
}
