{
 "currentVersion": 11.3,
 "serviceDescription": "Gardena_Parcels/VermontSt_Crop3_250dpi_export_tif",
 "name": "Gardena_Parcels/VermontSt_Crop3_250dpi_export_tif",
 "description": "",
 "extent": {
  "xmin": -1.3168174578960937E7,
  "ymin": 4013041.4604175184,
  "xmax": -1.3168123341224637E7,
  "ymax": 4013395.9567420706,
  "spatialReference": {
   "wkid": 102100,
   "latestWkid": 3857
  }
 },
 "initialExtent": {
  "xmin": -1.3168174578960937E7,
  "ymin": 4013041.4604175184,
  "xmax": -1.3168123341224637E7,
  "ymax": 4013395.9567420706,
  "spatialReference": {
   "wkid": 102100,
   "latestWkid": 3857
  }
 },
 "fullExtent": {
  "xmin": -1.3168174578960937E7,
  "ymin": 4013041.4604175184,
  "xmax": -1.3168123341224637E7,
  "ymax": 4013395.9567420706,
  "spatialReference": {
   "wkid": 102100,
   "latestWkid": 3857
  }
 },
 "sortableFields": "",
 "bandCount": 4,
 "pixelType": "U8",
 "minValues": [
  0,
  0,
  0,
  127
 ],
 "maxValues": [
  243,
  254,
  255,
  255
 ],
 "meanValues": [
  130.87982912427,
  136.27260723996,
  114.53749132142,
  183.79423288463
 ],
 "stdvValues": [
  50.633866631416,
  54.15770600369,
  50.086115587266,
  62.860333883578
 ],
 "hasMultidimensions": false,
 "pixelSizeX": 0.008555307446925026,
 "pixelSizeY": 0.6296559938760623,
 "meanPixelSize": 0.31910565066149366,
 "datasetFormat": "TIFF",
 "uncompressedSize": 13487228,
 "blockWidth": 5989,
 "blockHeight": 1,
 "compressionType": "LZW",
 "bandNames": [
  "Band_1",
  "Band_2",
  "Band_3",
  "Band_4"
 ],
 "allowCopy": true,
 "allowAnalysis": true,
 "itemAccess": false,
 "inspectionCapabilities": "",
 "minPixelSize": 0,
 "maxPixelSize": 0,
 "copyrightText": "",
 "serviceDataType": "esriImageServiceDataTypeGeneric",
 "serviceSourceType": "esriImageServiceSourceTypeDataset",
 "objectIdField": "",
 "fields": [],
 "capabilities": "Image,Metadata,Mensuration",
 "defaultMosaicMethod": "Center",
 "allowedMosaicMethods": "",
 "sortField": "",
 "sortValue": null,
 "sortAscending": true,
 "mosaicOperator": "First",
 "defaultCompressionQuality": 75,
 "defaultResamplingMethod": "Bilinear",
 "maxImageHeight": 4100,
 "maxImageWidth": 15000,
 "allowRasterFunction": true,
 "rasterFunctionInfos": [
  {
   "name": "None",
   "description": "",
   "help": ""
  }
 ],
 "rasterTypeInfos": [
  {
   "name": "Raster Dataset",
   "description": "Supports all ArcGIS Raster Datasets",
   "help": ""
  }
 ],
 "mensurationCapabilities": "Basic",
 "hasHistograms": true,
 "hasColormap": false,
 "hasRasterAttributeTable": false,
 "minScale": 0,
 "maxScale": 0,
 "exportTilesAllowed": false,
 "supportsStatistics": false,
 "supportsAdvancedQueries": false,
 "editFieldsInfo": null,
 "ownershipBasedAccessControlForRasters": null,
 "allowComputeTiePoints": false,
 "useStandardizedQueries": true,
 "advancedQueryCapabilities": {
  "useStandardizedQueries": true,
  "supportsStatistics": false,
  "supportsOrderBy": false,
  "supportsDistinct": false,
  "supportsPagination": false
 },
 "spatialReference": {
  "wkid": 102100,
  "latestWkid": 3857
 }
}
