{
 "currentVersion": 11.3,
 "serviceDescription": "Keep For Ari BD, check with Ari at the creation of evari labs. ",
 "name": "Ies2Gis/IllumSurf_SingleLight",
 "description": "Keep For Ari BD, check with Ari at the creation of evari labs. ",
 "extent": {
  "xmin": 7992784.791284174,
  "ymin": 136481.9890859127,
  "xmax": 7992981.291284174,
  "ymax": 136614.9890859127,
  "spatialReference": {
   "wkid": 102726,
   "latestWkid": 102726,
   "vcsWkid": 105703,
   "latestVcsWkid": 6360
  }
 },
 "initialExtent": {
  "xmin": 7992784.791284174,
  "ymin": 136481.9890859127,
  "xmax": 7992981.291284174,
  "ymax": 136614.9890859127,
  "spatialReference": {
   "wkid": 102726,
   "latestWkid": 102726,
   "vcsWkid": 105703,
   "latestVcsWkid": 6360
  }
 },
 "fullExtent": {
  "xmin": 7992784.791284174,
  "ymin": 136481.9890859127,
  "xmax": 7992981.291284174,
  "ymax": 136614.9890859127,
  "spatialReference": {
   "wkid": 102726,
   "latestWkid": 102726,
   "vcsWkid": 105703,
   "latestVcsWkid": 6360
  }
 },
 "sortableFields": "",
 "heightModelInfo": {
  "heightModel": "gravity_related_height",
  "vertCRS": "NAVD88_height_(ftUS)",
  "heightUnit": "us-foot"
 },
 "bandCount": 1,
 "pixelType": "F32",
 "minValues": [
  0
 ],
 "maxValues": [
  9.589010238647461
 ],
 "meanValues": [
  1.7675767207791582
 ],
 "stdvValues": [
  2.119776659725585
 ],
 "hasMultidimensions": false,
 "pixelSizeX": 0.5,
 "pixelSizeY": 0.5,
 "meanPixelSize": 0.15240030480060962,
 "datasetFormat": "FGDBR",
 "uncompressedSize": 418152,
 "blockWidth": 128,
 "blockHeight": 128,
 "compressionType": "NONE",
 "bandNames": [
  "Band_1"
 ],
 "allowCopy": true,
 "allowAnalysis": true,
 "itemAccess": false,
 "inspectionCapabilities": "",
 "minPixelSize": 0,
 "maxPixelSize": 0,
 "copyrightText": "",
 "serviceDataType": "esriImageServiceDataTypeGeneric",
 "serviceSourceType": "esriImageServiceSourceTypeDataset",
 "objectIdField": "",
 "fields": [],
 "capabilities": "Mensuration,Image,Metadata",
 "defaultMosaicMethod": "Center",
 "allowedMosaicMethods": "",
 "sortField": "",
 "sortValue": null,
 "sortAscending": true,
 "mosaicOperator": "First",
 "defaultCompressionQuality": 75,
 "defaultResamplingMethod": "Bilinear",
 "maxImageHeight": 4100,
 "maxImageWidth": 15000,
 "allowRasterFunction": true,
 "rasterFunctionInfos": [
  {
   "name": "None",
   "description": "",
   "help": ""
  }
 ],
 "rasterTypeInfos": [
  {
   "name": "Raster Dataset",
   "description": "Supports all ArcGIS Raster Datasets",
   "help": ""
  }
 ],
 "mensurationCapabilities": "Basic",
 "hasHistograms": true,
 "hasColormap": false,
 "hasRasterAttributeTable": false,
 "minScale": 0,
 "maxScale": 0,
 "exportTilesAllowed": false,
 "supportsStatistics": false,
 "supportsAdvancedQueries": false,
 "editFieldsInfo": null,
 "ownershipBasedAccessControlForRasters": null,
 "allowComputeTiePoints": false,
 "useStandardizedQueries": true,
 "advancedQueryCapabilities": {
  "useStandardizedQueries": true,
  "supportsStatistics": false,
  "supportsOrderBy": false,
  "supportsDistinct": false,
  "supportsPagination": false
 },
 "spatialReference": {
  "wkid": 102726,
  "latestWkid": 102726,
  "vcsWkid": 105703,
  "latestVcsWkid": 6360
 },
 "resampling": false
}
