{
 "currentVersion": 11.3,
 "serviceDescription": "Pittsburgh/Diff_Lumec_Existing_tif",
 "name": "Pittsburgh/Diff_Lumec_Existing_tif",
 "description": "",
 "extent": {
  "xmin": 1317372.6509286314,
  "ymin": 381975.6131720543,
  "xmax": 1379988.6509286314,
  "ymax": 433637.6131720543,
  "spatialReference": {
   "wkid": 103142,
   "latestWkid": 6565,
   "vcsWkid": 115808,
   "latestVcsWkid": 115808
  }
 },
 "initialExtent": {
  "xmin": 1317372.6509286314,
  "ymin": 381975.6131720543,
  "xmax": 1379988.6509286314,
  "ymax": 433637.6131720543,
  "spatialReference": {
   "wkid": 103142,
   "latestWkid": 6565,
   "vcsWkid": 115808,
   "latestVcsWkid": 115808
  }
 },
 "fullExtent": {
  "xmin": 1317372.6509286314,
  "ymin": 381975.6131720543,
  "xmax": 1379988.6509286314,
  "ymax": 433637.6131720543,
  "spatialReference": {
   "wkid": 103142,
   "latestWkid": 6565,
   "vcsWkid": 115808,
   "latestVcsWkid": 115808
  }
 },
 "sortableFields": "",
 "heightModelInfo": {
  "heightModel": "gravity_related_height",
  "vertCRS": "Unknown_height_system_(US_survey_feet)",
  "heightUnit": "us-foot"
 },
 "bandCount": 1,
 "pixelType": "S16",
 "minValues": [
  -628
 ],
 "maxValues": [
  858
 ],
 "meanValues": [
  -0.40231045227726
 ],
 "stdvValues": [
  2.8088483308434
 ],
 "hasMultidimensions": false,
 "pixelSizeX": 1,
 "pixelSizeY": 1,
 "meanPixelSize": 0.30480060960121924,
 "datasetFormat": "TIFF",
 "uncompressedSize": 6469735584,
 "blockWidth": 128,
 "blockHeight": 128,
 "compressionType": "LZW",
 "bandNames": [
  "Band_1"
 ],
 "allowCopy": true,
 "allowAnalysis": true,
 "itemAccess": false,
 "inspectionCapabilities": "",
 "noDataValue": -32768,
 "noDataValues": [
  -32768
 ],
 "minPixelSize": 0,
 "maxPixelSize": 0,
 "copyrightText": "",
 "serviceDataType": "esriImageServiceDataTypeGeneric",
 "serviceSourceType": "esriImageServiceSourceTypeDataset",
 "objectIdField": "",
 "fields": [],
 "capabilities": "Mensuration,Image,Metadata",
 "defaultMosaicMethod": "Center",
 "allowedMosaicMethods": "",
 "sortField": "",
 "sortValue": null,
 "sortAscending": true,
 "mosaicOperator": "First",
 "defaultCompressionQuality": 75,
 "defaultResamplingMethod": "Bilinear",
 "maxImageHeight": 4100,
 "maxImageWidth": 15000,
 "allowRasterFunction": true,
 "rasterFunctionInfos": [
  {
   "name": "None",
   "description": "",
   "help": ""
  }
 ],
 "rasterTypeInfos": [
  {
   "name": "Raster Dataset",
   "description": "Supports all ArcGIS Raster Datasets",
   "help": ""
  }
 ],
 "mensurationCapabilities": "Basic",
 "hasHistograms": true,
 "hasColormap": false,
 "hasRasterAttributeTable": true,
 "minScale": 0,
 "maxScale": 0,
 "exportTilesAllowed": false,
 "supportsStatistics": false,
 "supportsAdvancedQueries": false,
 "editFieldsInfo": null,
 "ownershipBasedAccessControlForRasters": null,
 "allowComputeTiePoints": false,
 "useStandardizedQueries": true,
 "advancedQueryCapabilities": {
  "useStandardizedQueries": true,
  "supportsStatistics": false,
  "supportsOrderBy": false,
  "supportsDistinct": false,
  "supportsPagination": false
 },
 "spatialReference": {
  "wkid": 103142,
  "latestWkid": 6565,
  "vcsWkid": 115808,
  "latestVcsWkid": 115808
 },
 "resampling": false
}
