View In:
ArcGIS JavaScript
ArcGIS Online Map Viewer
ArcGIS Earth
Service Description: ClantonSantaAnaCA/Transit_Illumination_500ft
Name: ClantonSantaAnaCA/Transit_Illumination_500ft
Description:
Single Fused Map Cache: false
Extent:
XMin: -1.3129598694177426E7
YMin: 3987545.254129911
XMax: -1.311690740639485E7
YMax: 3999638.523116449
Spatial Reference: 102100
(3857)
Initial Extent:
XMin: -1.3129598694177426E7
YMin: 3987545.254129911
XMax: -1.311690740639485E7
YMax: 3999638.523116449
Spatial Reference: 102100
(3857)
Full Extent:
XMin: -1.3129598694177426E7
YMin: 3987545.254129911
XMax: -1.311690740639485E7
YMax: 3999638.523116449
Spatial Reference: 102100
(3857)
Pixel Size X: 0.30480060960122807
Pixel Size Y: 0.3048006096012212
Band Count: 1
Pixel Type: U8
RasterFunction Infos: {"rasterFunctionInfos": [{
"name": "None",
"description": "",
"help": ""
}]}
Mensuration Capabilities: Basic
Inspection Capabilities:
Has Histograms: true
Has Colormap: false
Has Multi Dimensions : false
Rendering Rule:
Min Scale: 0
Max Scale: 0
Copyright Text:
Service Data Type: esriImageServiceDataTypeThematic
Min Values: 0
Max Values: 223
Mean Values: 2.1886567131185
Standard Deviation Values: 5.9186653705741
Object ID Field:
Fields:
None
Default Mosaic Method: Center
Allowed Mosaic Methods:
SortField:
SortValue: null
Mosaic Operator: First
Default Compression Quality: 75
Default Resampling Method: Bilinear
Max Record Count: null
Max Image Height: 4100
Max Image Width: 15000
Max Download Image Count: null
Max Mosaic Image Count: null
Allow Raster Function: true
Allow Copy: true
Allow Analysis: true
Allow Compute TiePoints: false
Supports Statistics: false
Supports Advanced Queries: false
Use StandardizedQueries: true
Raster Type Infos:
Name: Raster Dataset
Description: Supports all ArcGIS Raster Datasets
Help:
Has Raster Attribute Table: true
Edit Fields Info: null
Ownership Based AccessControl For Rasters: null
Child Resources:
Info
Raster Attribute Table
Histograms
Statistics
Key Properties
Legend
Raster Function Infos
Supported Operations:
Export Image
Identify
Measure
Compute Histograms
Compute Statistics Histograms
Get Samples
Compute Class Statistics
Query Boundary
Compute Pixel Location
Compute Angles
Validate
Project