View In:
ArcGIS JavaScript
ArcGIS Online Map Viewer
ArcGIS Earth
Service Description: Gardena_Parcels/Rosecrans1_20241119_jpg
Name: Gardena_Parcels/Rosecrans1_20241119_jpg
Description:
Single Fused Map Cache: false
Extent:
XMin: -1.3171492612085054E7
YMin: 4015659.153548156
XMax: -1.317139596990285E7
YMax: 4015729.683650412
Spatial Reference: 102100
(3857)
Initial Extent:
XMin: -1.3171492612085054E7
YMin: 4015659.153548156
XMax: -1.317139596990285E7
YMax: 4015729.683650412
Spatial Reference: 102100
(3857)
Full Extent:
XMin: -1.3171492612085054E7
YMin: 4015659.153548156
XMax: -1.317139596990285E7
YMax: 4015729.683650412
Spatial Reference: 102100
(3857)
Pixel Size X: 0.05497279988794637
Pixel Size Y: 0.0549727998879344
Band Count: 3
Pixel Type: U16
RasterFunction Infos: {"rasterFunctionInfos": [{
"name": "None",
"description": "",
"help": ""
}]}
Mensuration Capabilities: Basic
Inspection Capabilities:
Has Histograms: true
Has Colormap: false
Has Multi Dimensions : false
Rendering Rule:
Min Scale: 0
Max Scale: 0
Copyright Text:
Service Data Type: esriImageServiceDataTypeGeneric
Min Values: 0, 0, 0
Max Values: 255, 255, 255
Mean Values: 172.18684275018, 172.15606138872, 151.01979891788
Standard Deviation Values: 59.002825610147, 56.423120796363, 70.701648939619
Object ID Field:
Fields:
None
Default Mosaic Method: Center
Allowed Mosaic Methods:
SortField:
SortValue: null
Mosaic Operator: First
Default Compression Quality: 75
Default Resampling Method: Bilinear
Max Record Count: null
Max Image Height: 4100
Max Image Width: 15000
Max Download Image Count: null
Max Mosaic Image Count: null
Allow Raster Function: true
Allow Copy: true
Allow Analysis: true
Allow Compute TiePoints: false
Supports Statistics: false
Supports Advanced Queries: false
Use StandardizedQueries: true
Raster Type Infos:
Name: Raster Dataset
Description: Supports all ArcGIS Raster Datasets
Help:
Has Raster Attribute Table: false
Edit Fields Info: null
Ownership Based AccessControl For Rasters: null
Child Resources:
Info
Histograms
Statistics
Key Properties
Legend
Raster Function Infos
Supported Operations:
Export Image
Identify
Measure
Compute Histograms
Compute Statistics Histograms
Get Samples
Compute Class Statistics
Query Boundary
Compute Pixel Location
Compute Angles
Validate
Project