View In:
ArcGIS JavaScript
ArcGIS Online Map Viewer
ArcGIS Earth
Service Description: Gardena_Parcels/Thorburg1_ExtractByMask_tif
Name: Gardena_Parcels/Thorburg1_ExtractByMask_tif
Description:
Single Fused Map Cache: false
Extent:
XMin: -1.3171322798575953E7
YMin: 4014756.178283106
XMax: -1.3171231648013547E7
YMax: 4014925.6670798683
Spatial Reference: 102100
(3857)
Initial Extent:
XMin: -1.3171322798575953E7
YMin: 4014756.178283106
XMax: -1.3171231648013547E7
YMax: 4014925.6670798683
Spatial Reference: 102100
(3857)
Full Extent:
XMin: -1.3171322798575953E7
YMin: 4014756.178283106
XMax: -1.3171231648013547E7
YMax: 4014925.6670798683
Spatial Reference: 102100
(3857)
Pixel Size X: 0.09151662892127133
Pixel Size Y: 0.09151662892126931
Band Count: 3
Pixel Type: U16
RasterFunction Infos: {"rasterFunctionInfos": [{
"name": "None",
"description": "",
"help": ""
}]}
Mensuration Capabilities: Basic
Inspection Capabilities:
Has Histograms: true
Has Colormap: false
Has Multi Dimensions : false
Rendering Rule:
Min Scale: 0
Max Scale: 0
Copyright Text:
Service Data Type: esriImageServiceDataTypeGeneric
Min Values: 0, 0, 0
Max Values: 255, 255, 255
Mean Values: 107.55947164477, 110.74141797155, 81.18798791682
Standard Deviation Values: 80.638861533255, 89.058475271447, 76.519531959818
Object ID Field:
Fields:
None
Default Mosaic Method: Center
Allowed Mosaic Methods:
SortField:
SortValue: null
Mosaic Operator: First
Default Compression Quality: 75
Default Resampling Method: Bilinear
Max Record Count: null
Max Image Height: 4100
Max Image Width: 15000
Max Download Image Count: null
Max Mosaic Image Count: null
Allow Raster Function: true
Allow Copy: true
Allow Analysis: true
Allow Compute TiePoints: false
Supports Statistics: false
Supports Advanced Queries: false
Use StandardizedQueries: true
Raster Type Infos:
Name: Raster Dataset
Description: Supports all ArcGIS Raster Datasets
Help:
Has Raster Attribute Table: false
Edit Fields Info: null
Ownership Based AccessControl For Rasters: null
Child Resources:
Info
Histograms
Statistics
Key Properties
Legend
Raster Function Infos
Supported Operations:
Export Image
Identify
Measure
Compute Histograms
Compute Statistics Histograms
Get Samples
Compute Class Statistics
Query Boundary
Compute Pixel Location
Compute Angles
Validate
Project