View In:
ArcGIS JavaScript
ArcGIS Online Map Viewer
ArcGIS Earth
Service Description: Gardena_Parcels/VermontSt_Crop1_1000dpi_tif
Name: Gardena_Parcels/VermontSt_Crop1_1000dpi_tif
Description:
Single Fused Map Cache: false
Extent:
XMin: -1.3168210124039246E7
YMin: 4013889.29032506
XMax: -1.3168149255258335E7
YMax: 4014359.641352941
Spatial Reference: 102100
(3857)
Initial Extent:
XMin: -1.3168210124039246E7
YMin: 4013889.29032506
XMax: -1.3168149255258335E7
YMax: 4014359.641352941
Spatial Reference: 102100
(3857)
Full Extent:
XMin: -1.3168210124039246E7
YMin: 4013889.29032506
XMax: -1.3168149255258335E7
YMax: 4014359.641352941
Spatial Reference: 102100
(3857)
Pixel Size X: 0.0019145340455750883
Pixel Size Y: 0.1952474171360711
Band Count: 4
Pixel Type: U8
RasterFunction Infos: {"rasterFunctionInfos": [{
"name": "None",
"description": "",
"help": ""
}]}
Mensuration Capabilities: Basic
Inspection Capabilities:
Has Histograms: true
Has Colormap: false
Has Multi Dimensions : false
Rendering Rule:
Min Scale: 0
Max Scale: 0
Copyright Text:
Service Data Type: esriImageServiceDataTypeGeneric
Min Values: 0, 0, 0, 127
Max Values: 255, 250, 255, 255
Mean Values: 130.50441115581, 134.31106800151, 115.75896561161, 174.80413063247
Standard Deviation Values: 49.373322179741, 52.665493373875, 47.694970199296, 61.669027135082
Object ID Field:
Fields:
None
Default Mosaic Method: Center
Allowed Mosaic Methods:
SortField:
SortValue: null
Mosaic Operator: First
Default Compression Quality: 75
Default Resampling Method: Bilinear
Max Record Count: null
Max Image Height: 4100
Max Image Width: 15000
Max Download Image Count: null
Max Mosaic Image Count: null
Allow Raster Function: true
Allow Copy: true
Allow Analysis: true
Allow Compute TiePoints: false
Supports Statistics: false
Supports Advanced Queries: false
Use StandardizedQueries: true
Raster Type Infos:
Name: Raster Dataset
Description: Supports all ArcGIS Raster Datasets
Help:
Has Raster Attribute Table: false
Edit Fields Info: null
Ownership Based AccessControl For Rasters: null
Child Resources:
Info
Histograms
Statistics
Key Properties
Legend
Raster Function Infos
Supported Operations:
Export Image
Identify
Measure
Compute Histograms
Compute Statistics Histograms
Get Samples
Compute Class Statistics
Query Boundary
Compute Pixel Location
Compute Angles
Validate
Project