View In:
ArcGIS JavaScript
ArcGIS Online Map Viewer
ArcGIS Earth
Service Description: Gardena_Parcels/Vermont_161st_164th
Name: Gardena_Parcels/Vermont_161st_164th
Description:
Single Fused Map Cache: false
Extent:
XMin: -1.3168167314543035E7
YMin: 4013039.337595728
XMax: -1.3168140203475932E7
YMax: 4013388.88566864
Spatial Reference: 102100
(3857)
Initial Extent:
XMin: -1.3168167314543035E7
YMin: 4013039.337595728
XMax: -1.3168140203475932E7
YMax: 4013388.88566864
Spatial Reference: 102100
(3857)
Full Extent:
XMin: -1.3168167314543035E7
YMin: 4013039.337595728
XMax: -1.3168140203475932E7
YMax: 4013388.88566864
Spatial Reference: 102100
(3857)
Pixel Size X: 0.022801570313895722
Pixel Size Y: 0.02280157031388121
Band Count: 3
Pixel Type: U16
RasterFunction Infos: {"rasterFunctionInfos": [{
"name": "None",
"description": "",
"help": ""
}]}
Mensuration Capabilities: Basic
Inspection Capabilities:
Has Histograms: true
Has Colormap: false
Has Multi Dimensions : false
Rendering Rule:
Min Scale: 0
Max Scale: 0
Copyright Text:
Service Data Type: esriImageServiceDataTypeGeneric
Min Values: 0, 0, 0
Max Values: 255, 255, 255
Mean Values: 163.86818751703, 182.59914720481, 140.07239425969
Standard Deviation Values: 47.252705560153, 39.005468404381, 57.961655113822
Object ID Field:
Fields:
None
Default Mosaic Method: Center
Allowed Mosaic Methods:
SortField:
SortValue: null
Mosaic Operator: First
Default Compression Quality: 75
Default Resampling Method: Bilinear
Max Record Count: null
Max Image Height: 4100
Max Image Width: 15000
Max Download Image Count: null
Max Mosaic Image Count: null
Allow Raster Function: true
Allow Copy: true
Allow Analysis: true
Allow Compute TiePoints: false
Supports Statistics: false
Supports Advanced Queries: false
Use StandardizedQueries: true
Raster Type Infos:
Name: Raster Dataset
Description: Supports all ArcGIS Raster Datasets
Help:
Has Raster Attribute Table: false
Edit Fields Info: null
Ownership Based AccessControl For Rasters: null
Child Resources:
Info
Histograms
Statistics
Key Properties
Legend
Raster Function Infos
Supported Operations:
Export Image
Identify
Measure
Compute Histograms
Compute Statistics Histograms
Get Samples
Compute Class Statistics
Query Boundary
Compute Pixel Location
Compute Angles
Validate
Project