View In:
ArcGIS JavaScript
ArcGIS Online Map Viewer
ArcGIS Earth
Service Description: Gardena_Parcels/2509RosecransAveOption1Imagery
Name: Gardena_Parcels/2509RosecransAveOption1Imagery
Description:
Single Fused Map Cache: false
Extent:
XMin: -1.3171495177714325E7
YMin: 4015661.5455194637
XMax: -1.3171407936043713E7
YMax: 4015730.1614613375
Spatial Reference: 102100
(3857)
Initial Extent:
XMin: -1.3171495177714325E7
YMin: 4015661.5455194637
XMax: -1.3171407936043713E7
YMax: 4015730.1614613375
Spatial Reference: 102100
(3857)
Full Extent:
XMin: -1.3171495177714325E7
YMin: 4015661.5455194637
XMax: -1.3171407936043713E7
YMax: 4015730.1614613375
Spatial Reference: 102100
(3857)
Pixel Size X: 0.016352703020102305
Pixel Size Y: 0.016352703020436506
Band Count: 3
Pixel Type: U8
RasterFunction Infos: {"rasterFunctionInfos": [{
"name": "None",
"description": "",
"help": ""
}]}
Mensuration Capabilities: Basic
Inspection Capabilities:
Has Histograms: true
Has Colormap: false
Has Multi Dimensions : false
Rendering Rule:
Min Scale: 0
Max Scale: 0
Copyright Text:
Service Data Type: esriImageServiceDataTypeRGB
Min Values: 1, 1, 0
Max Values: 255, 255, 255
Mean Values: 183.11980214118, 172.45486619559, 144.51489109546
Standard Deviation Values: 61.864631628403, 54.572987632933, 72.433344959893
Object ID Field:
Fields:
None
Default Mosaic Method: Center
Allowed Mosaic Methods:
SortField:
SortValue: null
Mosaic Operator: First
Default Compression Quality: 75
Default Resampling Method: Bilinear
Max Record Count: null
Max Image Height: 4100
Max Image Width: 15000
Max Download Image Count: null
Max Mosaic Image Count: null
Allow Raster Function: true
Allow Copy: true
Allow Analysis: true
Allow Compute TiePoints: false
Supports Statistics: false
Supports Advanced Queries: false
Use StandardizedQueries: true
Raster Type Infos:
Name: Raster Dataset
Description: Supports all ArcGIS Raster Datasets
Help:
Has Raster Attribute Table: false
Edit Fields Info: null
Ownership Based AccessControl For Rasters: null
Child Resources:
Info
Histograms
Statistics
Key Properties
Legend
Raster Function Infos
Supported Operations:
Export Image
Identify
Measure
Compute Histograms
Compute Statistics Histograms
Get Samples
Compute Class Statistics
Query Boundary
Compute Pixel Location
Compute Angles
Validate
Project