View In:
ArcGIS JavaScript
ArcGIS Online Map Viewer
ArcGIS Earth
Service Description: Gardena_Parcels/VermontSt_Crop1_100dpi_tif
Name: Gardena_Parcels/VermontSt_Crop1_100dpi_tif
Description:
Single Fused Map Cache: false
Extent:
XMin: -1.3168205540078355E7
YMin: 4013889.664960239
XMax: -1.3168153882325646E7
YMax: 4014359.2145611616
Spatial Reference: 102100
(3857)
Initial Extent:
XMin: -1.3168205540078355E7
YMin: 4013889.664960239
XMax: -1.3168153882325646E7
YMax: 4014359.2145611616
Spatial Reference: 102100
(3857)
Full Extent:
XMin: -1.3168205540078355E7
YMin: 4013889.664960239
XMax: -1.3168153882325646E7
YMax: 4014359.2145611616
Spatial Reference: 102100
(3857)
Pixel Size X: 0.01624968628797208
Pixel Size Y: 1.9483385930394297
Band Count: 4
Pixel Type: U8
RasterFunction Infos: {"rasterFunctionInfos": [{
"name": "None",
"description": "",
"help": ""
}]}
Mensuration Capabilities: Basic
Inspection Capabilities:
Has Histograms: true
Has Colormap: false
Has Multi Dimensions : false
Rendering Rule:
Min Scale: 0
Max Scale: 0
Copyright Text:
Service Data Type: esriImageServiceDataTypeGeneric
Min Values: 0, 0, 0, 127
Max Values: 251, 246, 253, 255
Mean Values: 129.27715075201, 133.01993241435, 114.80398335028, 177.15797524992
Standard Deviation Values: 47.672090025539, 50.645017616149, 46.119371839468, 61.3696118857
Object ID Field:
Fields:
None
Default Mosaic Method: Center
Allowed Mosaic Methods:
SortField:
SortValue: null
Mosaic Operator: First
Default Compression Quality: 75
Default Resampling Method: Bilinear
Max Record Count: null
Max Image Height: 4100
Max Image Width: 15000
Max Download Image Count: null
Max Mosaic Image Count: null
Allow Raster Function: true
Allow Copy: true
Allow Analysis: true
Allow Compute TiePoints: false
Supports Statistics: false
Supports Advanced Queries: false
Use StandardizedQueries: true
Raster Type Infos:
Name: Raster Dataset
Description: Supports all ArcGIS Raster Datasets
Help:
Has Raster Attribute Table: false
Edit Fields Info: null
Ownership Based AccessControl For Rasters: null
Child Resources:
Info
Histograms
Statistics
Key Properties
Legend
Raster Function Infos
Supported Operations:
Export Image
Identify
Measure
Compute Histograms
Compute Statistics Histograms
Get Samples
Compute Class Statistics
Query Boundary
Compute Pixel Location
Compute Angles
Validate
Project