View In:
ArcGIS JavaScript
ArcGIS Online Map Viewer
ArcGIS Earth
Service Description: Gardena_Parcels/VermontSt_Crop2_250dpi_export_tif
Name: Gardena_Parcels/VermontSt_Crop2_250dpi_export_tif
Description:
Single Fused Map Cache: false
Extent:
XMin: -1.3168200896312535E7
YMin: 4013401.941914348
XMax: -1.3168128269306745E7
YMax: 4013882.9452027394
Spatial Reference: 102100
(3857)
Initial Extent:
XMin: -1.3168200896312535E7
YMin: 4013401.941914348
XMax: -1.3168128269306745E7
YMax: 4013882.9452027394
Spatial Reference: 102100
(3857)
Full Extent:
XMin: -1.3168200896312535E7
YMin: 4013401.941914348
XMax: -1.3168128269306745E7
YMax: 4013882.9452027394
Spatial Reference: 102100
(3857)
Pixel Size X: 0.008972943635956134
Pixel Size Y: 0.7276903001384446
Band Count: 4
Pixel Type: U8
RasterFunction Infos: {"rasterFunctionInfos": [{
"name": "None",
"description": "",
"help": ""
}]}
Mensuration Capabilities: Basic
Inspection Capabilities:
Has Histograms: true
Has Colormap: false
Has Multi Dimensions : false
Rendering Rule:
Min Scale: 0
Max Scale: 0
Copyright Text:
Service Data Type: esriImageServiceDataTypeGeneric
Min Values: 0, 0, 0, 127
Max Values: 250, 254, 255, 255
Mean Values: 129.94565164163, 132.58371939844, 114.10156511968, 176.09185695161
Standard Deviation Values: 49.95221127333, 53.037710262521, 45.910307299202, 61.737167032525
Object ID Field:
Fields:
None
Default Mosaic Method: Center
Allowed Mosaic Methods:
SortField:
SortValue: null
Mosaic Operator: First
Default Compression Quality: 75
Default Resampling Method: Bilinear
Max Record Count: null
Max Image Height: 4100
Max Image Width: 15000
Max Download Image Count: null
Max Mosaic Image Count: null
Allow Raster Function: true
Allow Copy: true
Allow Analysis: true
Allow Compute TiePoints: false
Supports Statistics: false
Supports Advanced Queries: false
Use StandardizedQueries: true
Raster Type Infos:
Name: Raster Dataset
Description: Supports all ArcGIS Raster Datasets
Help:
Has Raster Attribute Table: false
Edit Fields Info: null
Ownership Based AccessControl For Rasters: null
Child Resources:
Info
Histograms
Statistics
Key Properties
Legend
Raster Function Infos
Supported Operations:
Export Image
Identify
Measure
Compute Histograms
Compute Statistics Histograms
Get Samples
Compute Class Statistics
Query Boundary
Compute Pixel Location
Compute Angles
Validate
Project