View In:
ArcGIS JavaScript
ArcGIS Online Map Viewer
ArcGIS Earth
Service Description: Gardena_Parcels/VermontSt_Crop3_1000dpi_export_tif
Name: Gardena_Parcels/VermontSt_Crop3_1000dpi_export_tif
Description:
Single Fused Map Cache: false
Extent:
XMin: -1.316819583467653E7
YMin: 4013037.413482116
XMax: -1.3168102081819374E7
YMax: 4013400.0019693817
Spatial Reference: 102100
(3857)
Initial Extent:
XMin: -1.316819583467653E7
YMin: 4013037.413482116
XMax: -1.3168102081819374E7
YMax: 4013400.0019693817
Spatial Reference: 102100
(3857)
Full Extent:
XMin: -1.316819583467653E7
YMin: 4013037.413482116
XMax: -1.3168102081819374E7
YMax: 4013400.0019693817
Spatial Reference: 102100
(3857)
Pixel Size X: 0.003913380521605288
Pixel Size Y: 0.161007321165911
Band Count: 4
Pixel Type: U8
RasterFunction Infos: {"rasterFunctionInfos": [{
"name": "None",
"description": "",
"help": ""
}]}
Mensuration Capabilities: Basic
Inspection Capabilities:
Has Histograms: true
Has Colormap: false
Has Multi Dimensions : false
Rendering Rule:
Min Scale: 0
Max Scale: 0
Copyright Text:
Service Data Type: esriImageServiceDataTypeGeneric
Min Values: 0, 0, 0, 127
Max Values: 243, 254, 255, 255
Mean Values: 130.912676694, 136.25469287372, 114.60484094471, 183.25604450354
Standard Deviation Values: 51.321937974914, 54.92846973537, 50.681130519684, 63.184999102191
Object ID Field:
Fields:
None
Default Mosaic Method: Center
Allowed Mosaic Methods:
SortField:
SortValue: null
Mosaic Operator: First
Default Compression Quality: 75
Default Resampling Method: Bilinear
Max Record Count: null
Max Image Height: 4100
Max Image Width: 15000
Max Download Image Count: null
Max Mosaic Image Count: null
Allow Raster Function: true
Allow Copy: true
Allow Analysis: true
Allow Compute TiePoints: false
Supports Statistics: false
Supports Advanced Queries: false
Use StandardizedQueries: true
Raster Type Infos:
Name: Raster Dataset
Description: Supports all ArcGIS Raster Datasets
Help:
Has Raster Attribute Table: false
Edit Fields Info: null
Ownership Based AccessControl For Rasters: null
Child Resources:
Info
Histograms
Statistics
Key Properties
Legend
Raster Function Infos
Supported Operations:
Export Image
Identify
Measure
Compute Histograms
Compute Statistics Histograms
Get Samples
Compute Class Statistics
Query Boundary
Compute Pixel Location
Compute Angles
Validate
Project