View In:
ArcGIS JavaScript
ArcGIS Online Map Viewer
ArcGIS Earth
Service Description: Gardena_Parcels/VermontSt_Crop3_100dpi_export_tif
Name: Gardena_Parcels/VermontSt_Crop3_100dpi_export_tif
Description:
Single Fused Map Cache: false
Extent:
XMin: -1.3168171825814039E7
YMin: 4013041.895072765
XMax: -1.3168126159614826E7
YMax: 4013395.555520463
Spatial Reference: 102100
(3857)
Initial Extent:
XMin: -1.3168171825814039E7
YMin: 4013041.895072765
XMax: -1.3168126159614826E7
YMax: 4013395.555520463
Spatial Reference: 102100
(3857)
Full Extent:
XMin: -1.3168171825814039E7
YMin: 4013041.895072765
XMax: -1.3168126159614826E7
YMax: 4013395.555520463
Spatial Reference: 102100
(3857)
Pixel Size X: 0.019059348586349684
Pixel Size Y: 1.571824211989426
Band Count: 4
Pixel Type: U8
RasterFunction Infos: {"rasterFunctionInfos": [{
"name": "None",
"description": "",
"help": ""
}]}
Mensuration Capabilities: Basic
Inspection Capabilities:
Has Histograms: true
Has Colormap: false
Has Multi Dimensions : false
Rendering Rule:
Min Scale: 0
Max Scale: 0
Copyright Text:
Service Data Type: esriImageServiceDataTypeGeneric
Min Values: 0, 0, 0, 127
Max Values: 242, 253, 255, 255
Mean Values: 129.30040437767, 134.68559821925, 113.31370061213, 185.93636616583
Standard Deviation Values: 49.609020210344, 52.885565986565, 49.010522271632, 62.547069156716
Object ID Field:
Fields:
None
Default Mosaic Method: Center
Allowed Mosaic Methods:
SortField:
SortValue: null
Mosaic Operator: First
Default Compression Quality: 75
Default Resampling Method: Bilinear
Max Record Count: null
Max Image Height: 4100
Max Image Width: 15000
Max Download Image Count: null
Max Mosaic Image Count: null
Allow Raster Function: true
Allow Copy: true
Allow Analysis: true
Allow Compute TiePoints: false
Supports Statistics: false
Supports Advanced Queries: false
Use StandardizedQueries: true
Raster Type Infos:
Name: Raster Dataset
Description: Supports all ArcGIS Raster Datasets
Help:
Has Raster Attribute Table: false
Edit Fields Info: null
Ownership Based AccessControl For Rasters: null
Child Resources:
Info
Histograms
Statistics
Key Properties
Legend
Raster Function Infos
Supported Operations:
Export Image
Identify
Measure
Compute Histograms
Compute Statistics Histograms
Get Samples
Compute Class Statistics
Query Boundary
Compute Pixel Location
Compute Angles
Validate
Project