View In:
ArcGIS JavaScript
ArcGIS Online Map Viewer
ArcGIS Earth
Service Description: Gardena_Parcels/VermontSt_Crop3_250dpi_export_tif
Name: Gardena_Parcels/VermontSt_Crop3_250dpi_export_tif
Description:
Single Fused Map Cache: false
Extent:
XMin: -1.3168174578960937E7
YMin: 4013041.4604175184
XMax: -1.3168123341224637E7
YMax: 4013395.9567420706
Spatial Reference: 102100
(3857)
Initial Extent:
XMin: -1.3168174578960937E7
YMin: 4013041.4604175184
XMax: -1.3168123341224637E7
YMax: 4013395.9567420706
Spatial Reference: 102100
(3857)
Full Extent:
XMin: -1.3168174578960937E7
YMin: 4013041.4604175184
XMax: -1.3168123341224637E7
YMax: 4013395.9567420706
Spatial Reference: 102100
(3857)
Pixel Size X: 0.008555307446925026
Pixel Size Y: 0.6296559938760623
Band Count: 4
Pixel Type: U8
RasterFunction Infos: {"rasterFunctionInfos": [{
"name": "None",
"description": "",
"help": ""
}]}
Mensuration Capabilities: Basic
Inspection Capabilities:
Has Histograms: true
Has Colormap: false
Has Multi Dimensions : false
Rendering Rule:
Min Scale: 0
Max Scale: 0
Copyright Text:
Service Data Type: esriImageServiceDataTypeGeneric
Min Values: 0, 0, 0, 127
Max Values: 243, 254, 255, 255
Mean Values: 130.87982912427, 136.27260723996, 114.53749132142, 183.79423288463
Standard Deviation Values: 50.633866631416, 54.15770600369, 50.086115587266, 62.860333883578
Object ID Field:
Fields:
None
Default Mosaic Method: Center
Allowed Mosaic Methods:
SortField:
SortValue: null
Mosaic Operator: First
Default Compression Quality: 75
Default Resampling Method: Bilinear
Max Record Count: null
Max Image Height: 4100
Max Image Width: 15000
Max Download Image Count: null
Max Mosaic Image Count: null
Allow Raster Function: true
Allow Copy: true
Allow Analysis: true
Allow Compute TiePoints: false
Supports Statistics: false
Supports Advanced Queries: false
Use StandardizedQueries: true
Raster Type Infos:
Name: Raster Dataset
Description: Supports all ArcGIS Raster Datasets
Help:
Has Raster Attribute Table: false
Edit Fields Info: null
Ownership Based AccessControl For Rasters: null
Child Resources:
Info
Histograms
Statistics
Key Properties
Legend
Raster Function Infos
Supported Operations:
Export Image
Identify
Measure
Compute Histograms
Compute Statistics Histograms
Get Samples
Compute Class Statistics
Query Boundary
Compute Pixel Location
Compute Angles
Validate
Project