View In:
ArcGIS JavaScript
ArcGIS Online Map Viewer
ArcGIS Earth
Service Description: Keep For Ari BD, check with Ari at the creation of evari labs.
Name: Ies2Gis/IllumSurf_SingleLight
Description: Keep For Ari BD, check with Ari at the creation of evari labs.
Single Fused Map Cache: false
Extent:
XMin: 7992784.791284174
YMin: 136481.9890859127
XMax: 7992981.291284174
YMax: 136614.9890859127
Spatial Reference: 102726
(102726)
VCSWkid(105703)
LatestVCSWkid(6360)
Initial Extent:
XMin: 7992784.791284174
YMin: 136481.9890859127
XMax: 7992981.291284174
YMax: 136614.9890859127
Spatial Reference: 102726
(102726)
VCSWkid(105703)
LatestVCSWkid(6360)
Full Extent:
XMin: 7992784.791284174
YMin: 136481.9890859127
XMax: 7992981.291284174
YMax: 136614.9890859127
Spatial Reference: 102726
(102726)
VCSWkid(105703)
LatestVCSWkid(6360)
Pixel Size X: 0.5
Pixel Size Y: 0.5
Band Count: 1
Pixel Type: F32
RasterFunction Infos: {"rasterFunctionInfos": [{
"name": "None",
"description": "",
"help": ""
}]}
Mensuration Capabilities: Basic
Inspection Capabilities:
Has Histograms: true
Has Colormap: false
Has Multi Dimensions : false
Rendering Rule:
Min Scale: 0
Max Scale: 0
Resampling: false
Copyright Text:
Service Data Type: esriImageServiceDataTypeGeneric
Min Values: 0
Max Values: 9.589010238647461
Mean Values: 1.7675767207791582
Standard Deviation Values: 2.119776659725585
Object ID Field:
Fields:
None
Default Mosaic Method: Center
Allowed Mosaic Methods:
SortField:
SortValue: null
Mosaic Operator: First
Default Compression Quality: 75
Default Resampling Method: Bilinear
Max Record Count: null
Max Image Height: 4100
Max Image Width: 15000
Max Download Image Count: null
Max Mosaic Image Count: null
Allow Raster Function: true
Allow Copy: true
Allow Analysis: true
Allow Compute TiePoints: false
Supports Statistics: false
Supports Advanced Queries: false
Use StandardizedQueries: true
Raster Type Infos:
Name: Raster Dataset
Description: Supports all ArcGIS Raster Datasets
Help:
Has Raster Attribute Table: false
Edit Fields Info: null
Ownership Based AccessControl For Rasters: null
Child Resources:
Info
Histograms
Statistics
Key Properties
Legend
Raster Function Infos
Supported Operations:
Export Image
Identify
Measure
Compute Histograms
Compute Statistics Histograms
Get Samples
Compute Class Statistics
Query Boundary
Compute Pixel Location
Compute Angles
Validate
Project