View In:
ArcGIS JavaScript
ArcGIS Online Map Viewer
ArcGIS Earth
Service Description: Pittsburgh/Diff_Lumec_Existing_tif
Name: Pittsburgh/Diff_Lumec_Existing_tif
Description:
Single Fused Map Cache: false
Extent:
XMin: 1317372.6509286314
YMin: 381975.6131720543
XMax: 1379988.6509286314
YMax: 433637.6131720543
Spatial Reference: 103142
(6565)
VCSWkid(115808)
LatestVCSWkid(115808)
Initial Extent:
XMin: 1317372.6509286314
YMin: 381975.6131720543
XMax: 1379988.6509286314
YMax: 433637.6131720543
Spatial Reference: 103142
(6565)
VCSWkid(115808)
LatestVCSWkid(115808)
Full Extent:
XMin: 1317372.6509286314
YMin: 381975.6131720543
XMax: 1379988.6509286314
YMax: 433637.6131720543
Spatial Reference: 103142
(6565)
VCSWkid(115808)
LatestVCSWkid(115808)
Pixel Size X: 1.0
Pixel Size Y: 1.0
Band Count: 1
Pixel Type: S16
RasterFunction Infos: {"rasterFunctionInfos": [{
"name": "None",
"description": "",
"help": ""
}]}
Mensuration Capabilities: Basic
Inspection Capabilities:
Has Histograms: true
Has Colormap: false
Has Multi Dimensions : false
Rendering Rule:
Min Scale: 0
Max Scale: 0
Resampling: false
Copyright Text:
Service Data Type: esriImageServiceDataTypeGeneric
Min Values: -628
Max Values: 858
Mean Values: -0.40231045227726
Standard Deviation Values: 2.8088483308434
Object ID Field:
Fields:
None
Default Mosaic Method: Center
Allowed Mosaic Methods:
SortField:
SortValue: null
Mosaic Operator: First
Default Compression Quality: 75
Default Resampling Method: Bilinear
Max Record Count: null
Max Image Height: 4100
Max Image Width: 15000
Max Download Image Count: null
Max Mosaic Image Count: null
Allow Raster Function: true
Allow Copy: true
Allow Analysis: true
Allow Compute TiePoints: false
Supports Statistics: false
Supports Advanced Queries: false
Use StandardizedQueries: true
Raster Type Infos:
Name: Raster Dataset
Description: Supports all ArcGIS Raster Datasets
Help:
Has Raster Attribute Table: true
Edit Fields Info: null
Ownership Based AccessControl For Rasters: null
Child Resources:
Info
Raster Attribute Table
Histograms
Statistics
Key Properties
Legend
Raster Function Infos
Supported Operations:
Export Image
Identify
Measure
Compute Histograms
Compute Statistics Histograms
Get Samples
Compute Class Statistics
Query Boundary
Compute Pixel Location
Compute Angles
Validate
Project